BEGIN:VCALENDAR
PRODID:NingEventWidget-v1
VERSION:2.0
METHOD:PUBLISH
BEGIN:VTIMEZONE
TZID:Asia/Tokyo
X-LIC-LOCATION:Asia/Tokyo
BEGIN:STANDARD
TZOFFSETFROM:+0900
TZOFFSETTO:+0900
TZNAME:JST
DTSTART:19700101T000000
END:STANDARD
END:VTIMEZONE
BEGIN:VEVENT
UID:2831864:Event:34810
DTSTAMP:20260420T002206Z
SUMMARY:Beers for Books @ King's Hardware in Seattle
DESCRIPTION:Buy a beer, and children's books get donated to deserving 
 libraries in Asia and Africa. How's that for a great idea?Join Room to
  Read Seattle for our upcoming Beers for Books event at King's Hardwar
 e in Ballard on Wednesday, June 4th from 7:00 - 10:00pm.The concept is
  simple: buy one of our specialty drinks and a portion of the proceeds
  will be donated to Room to Read's Local Language Publishing Program -
 - producing treasured books for kids in places like Nepal, Cambodia, L
 aos and South Africa.It may be the easiest gift giving you've ever don
 e -- have a drink, give a book!- $1 from every King's Lemonade- $4 fro
 m every pint of Fremont Brewing Company or Lowercase Brewing beer- $13
  from every pitcher of Fremont Brewing company or Lowercase Brewing be
 er- Buy raffle tickets to win fun prizes: $5 for one ticket; $20 for 5
  ticketsHelp us reach our goal of raising $1,500 which will produce 1
 ,500 books in one night!If you are unable to attend, but would like to
  make a donation please go to: www.roomtoread.org/donate - be sure t
 o specify \"Seattle Chapter.\"\n\nFor more information visit https://b
 eersforbooks.ning.com/events/beers-for-books-king-s-hardware-in-seattl
 e
DTSTART;TZID=Asia/Tokyo:20140604T190000
DTEND;TZID=Asia/Tokyo:20140604T220000
CATEGORIES:b4b, fundraiser
LOCATION:King's Hardware
WEBSITE:http://www.kingsballard.com/
URL:http://www.kingsballard.com/
CONTACT:206-782-0027
ORGANIZER:Room to Read Seattle Chatper
ATTACH;FMTTYPE="image/jpeg":http://storage.ning.com/topology/rest/1.0/
 file/get/2582440014?profile=original
ATTENDEE;ROLE=REQ-PARTICIPANT;PARTSTAT=ACCEPTED;RSVP=TRUE;CN="Mike Tho
 mas":https://beersforbooks.ning.com/profile/MikeThomas
ATTENDEE;ROLE=REQ-PARTICIPANT;PARTSTAT=ACCEPTED;RSVP=TRUE;CN="Gary Bre
 mermann":https://beersforbooks.ning.com/profile/GaryBremermann
END:VEVENT
END:VCALENDAR
